BEGIN:VCALENDAR
VERSION:2.0
PRODID:-//wp-events-plugin.com//7.2.3.1//EN
TZID:Europe/Berlin
X-WR-TIMEZONE:Europe/Berlin
BEGIN:VEVENT
UID:134@kursif.eu
DTSTART;TZID=Europe/Berlin:20220324T173000
DTEND;TZID=Europe/Berlin:20220324T183000
DTSTAMP:20220320T143755Z
URL:https://www.kursif.eu/termine/orga-plenum/
SUMMARY:Orga-Plenum
DESCRIPTION:Beim Orga-Plenum diskutieren wir über Themen die Räumlichkeit
 en und das KuRSiF allgemein betreffend. Außerdem finden Abstimmungen stat
 t.
END:VEVENT
BEGIN:VTIMEZONE
TZID:Europe/Berlin
X-LIC-LOCATION:Europe/Berlin
BEGIN:STANDARD
DTSTART:20211031T020000
TZOFFSETFROM:+0200
TZOFFSETTO:+0100
TZNAME:CET
END:STANDARD
END:VTIMEZONE
END:VCALENDAR