BEGIN:VCALENDAR
VERSION:2.0
PRODID:-//wp-events-plugin.com//7.2.3.1//EN
TZID:Europe/Berlin
X-WR-TIMEZONE:Europe/Berlin
BEGIN:VEVENT
UID:300@kursif.eu
DTSTART;TZID=Europe/Berlin:20221027T170000
DTEND;TZID=Europe/Berlin:20221027T220000
DTSTAMP:20221009T092606Z
URL:https://www.kursif.eu/termine/kuefa-kueche-fuer-alle-strehlen-isst-zus
 ammen-3/
SUMMARY:Küfa – Küche für alle | Strehlen isst zusammen
DESCRIPTION:Wir laden wieder zum gemeinsamen Schnippeln (ab 17 Uhr) und Ess
 en (ab 19 Uhr) ein.\n\nEs wird vegan gekocht und wir freuen uns auf Unters
 tützung beim Schnippeln und Kochen.
ATTACH;FMTTYPE=image/jpeg:https://www.kursif.eu/wp-content/uploads/IMAGE-2
 022-10-09-112532.jpg
CATEGORIES:Küfa
LOCATION:KuRSiF\, Oskarstraße 1\, Dresden\, Deutschland
X-APPLE-STRUCTURED-LOCATION;VALUE=URI;X-ADDRESS=Oskarstraße 1\, Dresden\, 
 Deutschland;X-APPLE-RADIUS=100;X-TITLE=KuRSiF:geo:0,0
END:VEVENT
BEGIN:VTIMEZONE
TZID:Europe/Berlin
X-LIC-LOCATION:Europe/Berlin
BEGIN:DAYLIGHT
DTSTART:20220327T030000
TZOFFSETFROM:+0100
TZOFFSETTO:+0200
TZNAME:CEST
END:DAYLIGHT
END:VTIMEZONE
END:VCALENDAR