BEGIN:VCALENDAR
VERSION:2.0
PRODID:-//wp-events-plugin.com//7.2.3.1//EN
TZID:Europe/Berlin
X-WR-TIMEZONE:Europe/Berlin
BEGIN:VEVENT
UID:815@kursif.eu
DTSTART;TZID=Europe/Berlin:20260511T150000
DTEND;TZID=Europe/Berlin:20260511T160000
DTSTAMP:20260421T084522Z
URL:https://www.kursif.eu/termine/krabbel-und-kleinkindtreff/
SUMMARY:Krabbel- und Kleinkindtreff
DESCRIPTION:Egal ob dein Kind krabbelt\, noch herumliegt oder schon anfäng
 t zu laufen - bei diesem Eltern-Kind-Treff können die Kleinen spielen und
  ihr euch mit anderen Eltern austauschen.
ATTACH;FMTTYPE=image/jpeg:https://www.kursif.eu/wp-content/uploads/eltern_
 kind_treffen_sharepic_3.png
CATEGORIES:Krabbel- und Kleinkindtreff
LOCATION:KuRSiF\, Oskarstraße 1\, Dresden\, Deutschland
X-APPLE-STRUCTURED-LOCATION;VALUE=URI;X-ADDRESS=Oskarstraße 1\, Dresden\, 
 Deutschland;X-APPLE-RADIUS=100;X-TITLE=KuRSiF:geo:0,0
END:VEVENT
BEGIN:VTIMEZONE
TZID:Europe/Berlin
X-LIC-LOCATION:Europe/Berlin
BEGIN:DAYLIGHT
DTSTART:20260329T030000
TZOFFSETFROM:+0100
TZOFFSETTO:+0200
TZNAME:CEST
END:DAYLIGHT
END:VTIMEZONE
END:VCALENDAR