BEGIN:VCALENDAR
VERSION:2.0
PRODID:-//wp-events-plugin.com//7.2.3.1//EN
TZID:Europe/Berlin
X-WR-TIMEZONE:Europe/Berlin
BEGIN:VEVENT
UID:64@kursif.eu
DTSTART;TZID=Europe/Berlin:20211021T200000
DTEND;TZID=Europe/Berlin:20211021T234500
DTSTAMP:20211020T182823Z
URL:https://www.kursif.eu/termine/k-os-3/
SUMMARY:K-OS
DESCRIPTION:Alle Informationen zum K-OS gibt es auf dieser Seite: Projekt K
 -OS
LOCATION:KuRSiF\, Oskarstraße 1\, Dresden\, Deutschland
X-APPLE-STRUCTURED-LOCATION;VALUE=URI;X-ADDRESS=Oskarstraße 1\, Dresden\, 
 Deutschland;X-APPLE-RADIUS=100;X-TITLE=KuRSiF:geo:0,0
END:VEVENT
BEGIN:VTIMEZONE
TZID:Europe/Berlin
X-LIC-LOCATION:Europe/Berlin
BEGIN:DAYLIGHT
DTSTART:20210328T030000
TZOFFSETFROM:+0100
TZOFFSETTO:+0200
TZNAME:CEST
END:DAYLIGHT
END:VTIMEZONE
END:VCALENDAR