BEGIN:VCALENDAR
VERSION:2.0
PRODID:-//wp-events-plugin.com//7.2.3.1//EN
TZID:Europe/Berlin
X-WR-TIMEZONE:Europe/Berlin
BEGIN:VEVENT
UID:279@kursif.eu
DTSTART;TZID=Europe/Berlin:20220923T150000
DTEND;TZID=Europe/Berlin:20220923T170000
DTSTAMP:20220831T184834Z
URL:https://www.kursif.eu/termine/das-bunte-band-kindervorlesenachmittag/
SUMMARY:Das bunte Band – Kindervorlesenachmittag
DESCRIPTION:Weitere Informationen folgen.
CATEGORIES:Das Bunte Band
LOCATION:KuRSiF\, Oskarstraße 1\, Dresden\, Deutschland
X-APPLE-STRUCTURED-LOCATION;VALUE=URI;X-ADDRESS=Oskarstraße 1\, Dresden\, 
 Deutschland;X-APPLE-RADIUS=100;X-TITLE=KuRSiF:geo:0,0
END:VEVENT
BEGIN:VTIMEZONE
TZID:Europe/Berlin
X-LIC-LOCATION:Europe/Berlin
BEGIN:DAYLIGHT
DTSTART:20220327T030000
TZOFFSETFROM:+0100
TZOFFSETTO:+0200
TZNAME:CEST
END:DAYLIGHT
END:VTIMEZONE
END:VCALENDAR